BEGIN:VCALENDAR
VERSION:2.0
PRODID:-//ShootOut Golf - ECPv6.9.0//NONSGML v1.0//EN
CALSCALE:GREGORIAN
METHOD:PUBLISH
X-WR-CALNAME:ShootOut Golf
X-ORIGINAL-URL:https://shootoutgolf.com.au
X-WR-CALDESC:Events for ShootOut Golf
REFRESH-INTERVAL;VALUE=DURATION:PT1H
X-Robots-Tag:noindex
X-PUBLISHED-TTL:PT1H
BEGIN:VTIMEZONE
TZID:Australia/Sydney
BEGIN:STANDARD
TZOFFSETFROM:+1100
TZOFFSETTO:+1000
TZNAME:AEST
DTSTART:20220402T160000
END:STANDARD
BEGIN:DAYLIGHT
TZOFFSETFROM:+1000
TZOFFSETTO:+1100
TZNAME:AEDT
DTSTART:20221001T160000
END:DAYLIGHT
END:VTIMEZONE
BEGIN:VEVENT
DTSTART;VALUE=DATE:20220722
DTEND;VALUE=DATE:20220723
DTSTAMP:20260423T014400
CREATED:20210603T233205Z
LAST-MODIFIED:20220216T071303Z
UID:4694-1658448000-1658534399@shootoutgolf.com.au
SUMMARY:World Shootout Golf Championships@ Monash Country Club
DESCRIPTION:  \n \n\nVenue – Monash Country Club\nDate – 22nd July\nPrizes – $4000\nEvent – 18 Holes Single Stableford with Sudden Death Playoff\nRegistration – 9 am – 10.00am\nStandard Package – $129\nDiscount Package Cost – $99  if refundable **deposit paid by 1st July \nMonash Members Cost – $19  if refundable **deposit paid by 1st July\nVirgin Deal – $69  Bring a new shootout player and get a $60 discount\n\n18 Holes of Championship golf including “sudden death” play off.\n1st Prize $1500 package to the World Champs on the Gold Coast in October.\nPLUS  a lucky draw for a $1500 Travel voucher for the 2022 World Champs in Las Vegas** if 24 Hours notice given before the event all deposits to be returned**\n\nYou can not combine any prizes or discounts with the Vegas trip \, you will only be eligible to use the largest discount\nor prize \, any prizes won are also non transferable \n\n+ Google Calendar+ iCal Export
URL:https://shootoutgolf.com.au/event/wsgc13/
LOCATION:Monash Country Club\, Powder Works Rd\, Ingleside\, nsw\, 2101\, Australia
END:VEVENT
END:VCALENDAR